Workbook

Sheet Inicio
B1: ObservAcción
B4: Evaluación práctica del sistema de supervisión
B6: De controlar tareas a gestionar el desempeño
A8: Interpretación
A10: Esta es una evaluación rápida, diseñada para obtener una primera aproximación al nivel de madurez del sistema de supervisión. Sus resultados reflejan la percepción
A11: y la evidencia disponible al momento de responder, por lo que no deben interpretarse como una descripción definitiva de la realidad. Para obtener un diagnóstico más preciso,
A12: se recomienda complementar los resultados con observación directa en terreno, revisión de registros e indicadores y contraste entre distintas áreas, turnos y niveles de la organización.
A15: Datos de la evaluación
A16: Empresa
A17: Operación / instalación
A18: Responsable
A19: Fecha | B19: 46108
A21: Cómo responder
A22: Responda pensando en el funcionamiento de los últimos tres meses y en la mayoría de las áreas y turnos. Evalúe el sistema implícito de la organización, no el desempeño del mejor supervisor. Seleccione un puntaje entre 0 y 4. Para puntajes 3 y 4, identifique brevemente la evidencia que respalda la respuesta.
A26: Quiere una lectura rápida ?
A27: Si tiene curiosidad por obtener una primera señal antes de completar la evaluación, responda las preguntas 15, 27, 30, 34 y 48. Estas cinco preguntas permiten
A28: revisar rápidamente si el sistema prepara, observa, compara, interviene y verifica. El resultado es solo orientativo y no reemplaza la evaluación completa.
A30: Escala de madurez
A31: Puntaje | B31: Nivel | D31: Criterio para responder
A32: 0 | B32: No existe | D32: La práctica no existe o no hay evidencia de que se realice.
A33: 1 | B33: Depende de personas | D33: Se realiza ocasionalmente; la evidencia es casual o aislada.
A34: 2 | B34: Parcialmente definido | D34: Existe un método, pero su aplicación es irregular o la evidencia es incompleta.
A35: 3 | B35: Estandarizado | D35: Se aplica regularmente en la mayor parte de la operación y existe evidencia reciente.
A36: 4 | B36: Gestionado y mejorado | D36: Se aplica sistemáticamente, se evalúan resultados y existe evidencia de mejoras.
A39: La evidencia importa
A40: No es necesario adjuntar documentos. Basta con identificar el respaldo: tablero diario, informe de turno, minuta, procedimiento, registro de desviaciones, sistema de información o resultado observado. Si no puede identificar evidencia suficiente, no seleccione 3 o 4.

Sheet Evaluación
A1: Evaluación del sistema de supervisión
A3: Responda 0–4. Puntajes 3 y 4 requieren evidencia identificable.
A5: N° | B5: Dimensión | C5: Práctica del sistema | D5: Puntaje | E5: Evidencia que respalda la respuesta | F5: Estado de evidencia | G5: Observación
A6: 1 | B6: Diseño organizacional de la supervisión | C6: La organización ha definido formalmente el propósito de la supervisión operacional. | D6: 1 | F6: =IF(D6="","Pendiente",IF(D6<3,"No exigida",IF(E6="","Falta evidencia","Respaldada"))) -> No exigida
A7: 2 | B7: Diseño organizacional de la supervisión | C7: Está claramente establecido qué resultados debe gestionar el sistema de supervisión. | D7: 2 | F7: =IF(D7="","Pendiente",IF(D7<3,"No exigida",IF(E7="","Falta evidencia","Respaldada"))) -> No exigida
A8: 3 | B8: Diseño organizacional de la supervisión | C8: Las responsabilidades de supervisión sobre producción, productividad, calidad, seguridad y costos están explícitamente definidas. | D8: 3 | F8: =IF(D8="","Pendiente",IF(D8<3,"No exigida",IF(E8="","Falta evidencia","Respaldada"))) -> Falta evidencia
A9: 4 | B9: Diseño organizacional de la supervisión | C9: Están delimitadas las responsabilidades entre supervisión, planificación, mantenimiento, calidad y administración. | D9: 4 | F9: =IF(D9="","Pendiente",IF(D9<3,"No exigida",IF(E9="","Falta evidencia","Respaldada"))) -> Falta evidencia
A10: 5 | B10: Diseño organizacional de la supervisión | C10: Existen criterios claros para determinar qué decisiones corresponden a cada nivel organizacional. | D10: 0 | F10: =IF(D10="","Pendiente",IF(D10<3,"No exigida",IF(E10="","Falta evidencia","Respaldada"))) -> No exigida
A11: 6 | B11: Diseño organizacional de la supervisión | C11: La organización ha definido las atribuciones necesarias para actuar frente a desviaciones operacionales. | D11: 1 | F11: =IF(D11="","Pendiente",IF(D11<3,"No exigida",IF(E11="","Falta evidencia","Respaldada"))) -> No exigida
A12: 7 | B12: Diseño organizacional de la supervisión | C12: Están establecidos los problemas que deben resolverse localmente y aquellos que deben escalarse. | D12: 2 | F12: =IF(D12="","Pendiente",IF(D12<3,"No exigida",IF(E12="","Falta evidencia","Respaldada"))) -> No exigida
A13: 8 | B13: Diseño organizacional de la supervisión | C13: La estructura de supervisión considera adecuadamente la cantidad de personas, equipos, procesos y dispersión geográfica. | D13: 3 | F13: =IF(D13="","Pendiente",IF(D13<3,"No exigida",IF(E13="","Falta evidencia","Respaldada"))) -> Falta evidencia
A14: 9 | B14: Diseño organizacional de la supervisión | C14: La carga administrativa asignada permite dedicar tiempo suficiente a la gestión activa de la operación. | D14: 4 | F14: =IF(D14="","Pendiente",IF(D14<3,"No exigida",IF(E14="","Falta evidencia","Respaldada"))) -> Falta evidencia
A15: 10 | B15: Diseño organizacional de la supervisión | C15: La organización ha definido cuánto tiempo de supervisión debe destinarse al terreno. | D15: 0 | F15: =IF(D15="","Pendiente",IF(D15<3,"No exigida",IF(E15="","Falta evidencia","Respaldada"))) -> No exigida
A16: 11 | B16: Diseño organizacional de la supervisión | C16: Existen mecanismos de reemplazo que aseguran continuidad cuando falta una persona responsable. | D16: 1 | F16: =IF(D16="","Pendiente",IF(D16<3,"No exigida",IF(E16="","Falta evidencia","Respaldada"))) -> No exigida
A17: 12 | B17: Diseño organizacional de la supervisión | C17: Los criterios de evaluación e incentivos de la supervisión equilibran producción, productividad, calidad, seguridad y costos. | D17: 2 | F17: =IF(D17="","Pendiente",IF(D17<3,"No exigida",IF(E17="","Falta evidencia","Respaldada"))) -> No exigida
... A65: 60 | B65: Aprendizaje, mejora y alineamiento del sistema | C65: La organización revisa periódicamente las reglas y políticas que generan esperas, cuellos de botella o baja utilización. | D65: 2 | F65: =IF(D65="","Pendiente",IF(D65<3,"No exigida",IF(E65="","Falta evidencia","Respaldada"))) -> No exigida

Sheet Resultados
A1: Resultados | Sistema de supervisión
A3: Una lectura ejecutiva de la madurez declarada y su respaldo en evidencia
A5: MADUREZ GENERAL | D5: AVANCE | G5: EVIDENCIA EN PUNTAJES 3–4 | J5: BRECHAS CRÍTICAS
A6: =IFERROR(AVERAGE(Evaluación!$D$6:$D$65),"—") -> 2.0666667 | D6: =COUNT(Evaluación!$D$6:$D$65)/60 -> 1 | G6: =IF(COUNTIF(Evaluación!$D$6:$D$65,">=3")=0,"—",COUNTIFS(Evaluación!$D$6:$D$65,">=3",Evaluación!$E$6:$E$65,"<>")/COUNTIF(Evaluación!$D$6:$D$65,">=3")) -> 0 | J6: =IF(COUNT(Evaluación!$D$6:$D$65)=0,"—",COUNTIFS(Evaluación!$D$6:$D$65,"<>",Evaluación!$D$6:$D$65,"<=1")) -> 23
A8: =IF(ISNUMBER(A6),VLOOKUP(A6,Parámetros!$A$21:$B$25,2,TRUE),"Sin respuestas") -> Parcialmente definido | D8: Preguntas respondidas | G8: Respuestas altas respaldadas | J8: Prácticas con puntaje 0–1
A10: Dimensión | B10: Puntaje | C10: Nivel | D10: Respondidas | E10: Evidencia 3–4
A11: Diseño organizacional de la supervisión | B11: =IFERROR(AVERAGEIF(Evaluación!$B$6:$B$65,A11,Evaluación!$D$6:$D$65),"") -> 1.9166667 | C11: =IF(B11="","Sin respuestas",VLOOKUP(B11,Parámetros!$A$21:$B$25,2,TRUE)) -> Parcialmente definido | D11: =COUNTIFS(Evaluación!$B$6:$B$65,A11,Evaluación!$D$6:$D$65,"<>") -> 12 | E11: =IF(COUNTIFS(Evaluación!$B$6:$B$65,A11,Evaluación!$D$6:$D$65,">=3")=0,"—",COUNTIFS(Evaluación!$B$6:$B$65,A11,Evaluación!$D$6:$D$65,">=3",Evaluación!$E$6:$E$65,"<>")/COUNTIFS(Evaluación!$B$6:$B$65,A11,Evaluación!$D$6:$D$65,">=3")) -> 0 | F11: =A6 -> 2.0666667
A12: Planificación y coordinación operacional | B12: =IFERROR(AVERAGEIF(Evaluación!$B$6:$B$65,A12,Evaluación!$D$6:$D$65),"") -> 2.25 | C12: =IF(B12="","Sin respuestas",VLOOKUP(B12,Parámetros!$A$21:$B$25,2,TRUE)) -> Parcialmente definido | D12: =COUNTIFS(Evaluación!$B$6:$B$65,A12,Evaluación!$D$6:$D$65,"<>") -> 12 | E12: =IF(COUNTIFS(Evaluación!$B$6:$B$65,A12,Evaluación!$D$6:$D$65,">=3")=0,"—",COUNTIFS(Evaluación!$B$6:$B$65,A12,Evaluación!$D$6:$D$65,">=3",Evaluación!$E$6:$E$65,"<>")/COUNTIFS(Evaluación!$B$6:$B$65,A12,Evaluación!$D$6:$D$65,">=3")) -> 0 | F12: =F11 -> 2.0666667
A13: Rutinas de supervisión activa | B13: =IFERROR(AVERAGEIF(Evaluación!$B$6:$B$65,A13,Evaluación!$D$6:$D$65),"") -> 1.75 | C13: =IF(B13="","Sin respuestas",VLOOKUP(B13,Parámetros!$A$21:$B$25,2,TRUE)) -> Parcialmente definido | D13: =COUNTIFS(Evaluación!$B$6:$B$65,A13,Evaluación!$D$6:$D$65,"<>") -> 12 | E13: =IF(COUNTIFS(Evaluación!$B$6:$B$65,A13,Evaluación!$D$6:$D$65,">=3")=0,"—",COUNTIFS(Evaluación!$B$6:$B$65,A13,Evaluación!$D$6:$D$65,">=3",Evaluación!$E$6:$E$65,"<>")/COUNTIFS(Evaluación!$B$6:$B$65,A13,Evaluación!$D$6:$D$65,">=3")) -> 0 | F13: =F12 -> 2.0666667
A14: Información y gestión de desviaciones | B14: =IFERROR(AVERAGEIF(Evaluación!$B$6:$B$65,A14,Evaluación!$D$6:$D$65),"") -> 1.9166667 | C14: =IF(B14="","Sin respuestas",VLOOKUP(B14,Parámetros!$A$21:$B$25,2,TRUE)) -> Parcialmente definido | D14: =COUNTIFS(Evaluación!$B$6:$B$65,A14,Evaluación!$D$6:$D$65,"<>") -> 12 | E14: =IF(COUNTIFS(Evaluación!$B$6:$B$65,A14,Evaluación!$D$6:$D$65,">=3")=0,"—",COUNTIFS(Evaluación!$B$6:$B$65,A14,Evaluación!$D$6:$D$65,">=3",Evaluación!$E$6:$E$65,"<>")/COUNTIFS(Evaluación!$B$6:$B$65,A14,Evaluación!$D$6:$D$65,">=3")) -> 0 | F14: =F13 -> 2.0666667
A15: Aprendizaje, mejora y alineamiento del sistema | B15: =IFERROR(AVERAGEIF(Evaluación!$B$6:$B$65,A15,Evaluación!$D$6:$D$65),"") -> 2.5 | C15: =IF(B15="","Sin respuestas",VLOOKUP(B15,Parámetros!$A$21:$B$25,2,TRUE)) -> Estandarizado | D15: =COUNTIFS(Evaluación!$B$6:$B$65,A15,Evaluación!$D$6:$D$65,"<>") -> 12 | E15: =IF(COUNTIFS(Evaluación!$B$6:$B$65,A15,Evaluación!$D$6:$D$65,">=3")=0,"—",COUNTIFS(Evaluación!$B$6:$B$65,A15,Evaluación!$D$6:$D$65,">=3",Evaluación!$E$6:$E$65,"<>")/COUNTIFS(Evaluación!$B$6:$B$65,A15,Evaluación!$D$6:$D$65,">=3")) -> 0 | F15: =F14 -> 2.0666667
A28: Lectura ejecutiva
A29: =IF(COUNT(Evaluación!$D$6:$D$65)=0,"Complete la hoja Evaluación para generar resultados.",IF(COUNT(Evaluación!$D$6:$D$65)<60,"Resultado preliminar: aún existen preguntas sin responder. Revise especialmente las prácticas con puntaje 0–1 y las respuestas 3–4 sin evidencia.","Evaluación completa. Priorice las dimensiones con menor puntaje y valide en terreno una muestra de las respuestas altas.")) -> Evaluación completa. Priorice las dimensiones con menor puntaje y valide en terreno una muestra de las respuestas altas.

Sheet Parámetros
A1: Parámetros de evaluación
A4: Puntaje | B4: Nivel | C4: Criterio | D4: Exigencia de evidencia
A5: 0 | B5: No existe | C5: La práctica no existe o no hay evidencia. | D5: No exigida
A6: 1 | B6: Dependiente de personas | C6: Aplicación ocasional o personal. | D6: Anecdótica o aislada
A7: 2 | B7: Parcialmente definido | C7: Método parcial o aplicación irregular. | D7: Incompleta
A8: 3 | B8: Estandarizado | C8: Aplicación regular y amplia. | D8: Reciente e identificable
A9: 4 | B9: Gestionado y mejorado | C9: Aplicación sistemática y mejora verificada. | D9: Resultados y mejora
A12: Dimensión | B12: Peso
A13: Diseño organizacional de la supervisión | B13: 0.1
A14: Planificación y coordinación operacional | B14: 0.1
A15: Rutinas de supervisión activa | B15: 0.3
A16: Información y gestión de desviaciones | B16: 0.3
A17: Aprendizaje, mejora y alineamiento del sistema | B17: 0.2
A20: Desde | B20: Nivel de madurez | C20: Lectura práctica
A21: 0 | B21: Inexistente | C21: No existe un método reconocible.
A22: 0.8 | B22: Dependiente de personas | C22: El resultado depende de iniciativas individuales.
A23: 1.6 | B23: Parcialmente definido | C23: Hay elementos de sistema, pero no son consistentes.
A24: 2.4 | B24: Estandarizado | C24: El método funciona regularmente y deja evidencia.
A25: 3.2 | B25: Gestionado y mejorado | C25: El sistema mide, aprende y ajusta sus prácticas.
A28: Tipo de evidencia | B28: Ejemplos
A29: Documento | B29: Procedimiento, estándar, matriz de responsabilidades
A30: Registro | B30: Plan, informe de turno, minuta, acción correctiva
A31: Herramienta | B31: Tablero, sistema, formulario, clasificación de pérdidas
A32: Aplicación | B32: Uso consistente en áreas y turnos
A33: Resultado | B33: Tendencia, cierre de brechas, estabilidad o mejora
A34: Verificación | B34: Revisión periódica y ajuste del método
A37: Nota metodológica: el puntaje es una autoevaluación gerencial. Para una evaluación formal, conviene validar una muestra de respuestas mediante registros, observación en terreno y contraste entre áreas o turnos.
